BEGIN:VCALENDAR
VERSION:2.0
PRODID:icalendar-ruby
CALSCALE:GREGORIAN
METHOD:PUBLISH
BEGIN:VEVENT
DTSTAMP:20260421T115041Z
UID:128-1899587@mtzionlutheran.org
DTSTART:20261014T180000Z
DTEND:20261014T200000Z
CLASS:PUBLIC
CREATED:20260421T055508
DESCRIPTION:
LAST-MODIFIED:20260421T055508
LOCATION:Rm 103
SUMMARY:Tosa Cares Donation Drop-offs
URL;VALUE=URI:https://www.mtzionlutheran.org/events/tosa-cares-donation-dro
 p-offs--128/2026-10-14
END:VEVENT
END:VCALENDAR
